BEGIN:VCALENDAR
VERSION:2.0
PRODID:-//Lynne McTaggart - ECPv6.15.11//NONSGML v1.0//EN
CALSCALE:GREGORIAN
METHOD:PUBLISH
X-ORIGINAL-URL:https://lynnemctaggart.com
X-WR-CALDESC:Events for Lynne McTaggart
REFRESH-INTERVAL;VALUE=DURATION:PT1H
X-Robots-Tag:noindex
X-PUBLISHED-TTL:PT1H
BEGIN:VTIMEZONE
TZID:America/Los_Angeles
BEGIN:DAYLIGHT
TZOFFSETFROM:-0800
TZOFFSETTO:-0700
TZNAME:PDT
DTSTART:20250309T100000
END:DAYLIGHT
BEGIN:STANDARD
TZOFFSETFROM:-0700
TZOFFSETTO:-0800
TZNAME:PST
DTSTART:20251102T090000
END:STANDARD
BEGIN:DAYLIGHT
TZOFFSETFROM:-0800
TZOFFSETTO:-0700
TZNAME:PDT
DTSTART:20260308T100000
END:DAYLIGHT
BEGIN:STANDARD
TZOFFSETFROM:-0700
TZOFFSETTO:-0800
TZNAME:PST
DTSTART:20261101T090000
END:STANDARD
BEGIN:DAYLIGHT
TZOFFSETFROM:-0800
TZOFFSETTO:-0700
TZNAME:PDT
DTSTART:20270314T100000
END:DAYLIGHT
BEGIN:STANDARD
TZOFFSETFROM:-0700
TZOFFSETTO:-0800
TZNAME:PST
DTSTART:20271107T090000
END:STANDARD
END:VTIMEZONE
BEGIN:VTIMEZONE
TZID:UTC
BEGIN:STANDARD
TZOFFSETFROM:+0000
TZOFFSETTO:+0000
TZNAME:UTC
DTSTART:20250101T000000
END:STANDARD
END:VTIMEZONE
BEGIN:VEVENT
DTSTART;TZID=America/Los_Angeles:20260130T080000
DTEND;TZID=America/Los_Angeles:20260202T200000
DTSTAMP:20260422T092148
CREATED:20251201T100849Z
LAST-MODIFIED:20251201T100849Z
UID:10000018-1769760000-1770062400@lynnemctaggart.com
SUMMARY:TCCHE San Diego
DESCRIPTION:Join us and a group of like-minded people as we travel through the latest scientific discoveries\, then move into the humanities\, human potential and metaphysics and finally end on the third day with talks about the future of humanity\, the mystical experience and human connection beyond the 5 senses available for You to explore!
URL:https://lynnemctaggart.com/event/tcche-san-diego/
LOCATION:Wyndham San Diego Bayside\, 1355 N Harbor Dr\, San Diego\, CA\, 92101\, United States
CATEGORIES:Keynotes & Workshops
ATTACH;FMTTYPE=image/jpeg:https://lynnemctaggart.com/wp-content/uploads/2025/12/TCCHE-2026.jpg
ORGANIZER;CN="TCCHE":MAILTO:info@tcche.org
END:VEVENT
BEGIN:VEVENT
DTSTART;VALUE=DATE:20260529
DTEND;VALUE=DATE:20260603
DTSTAMP:20260422T092148
CREATED:20251216T162828Z
LAST-MODIFIED:20251216T163032Z
UID:10000015-1780012800-1780444799@lynnemctaggart.com
SUMMARY:Holomovement Wave
DESCRIPTION:Join Lynne at the Holomovement Wave in Cascais\, Portugal. The Holomovement Wave is their annual flagship gathering — a living catalyst uniting all who are answering the call of conscious evolution\, to inspire\, renew\, and align for the bold work of planetary transformation.
URL:https://lynnemctaggart.com/event/holomovement-wave-2/
LOCATION:Hotel Cascais Miragem Health & Spa\, Av. Marginal n.8554\, Cascais\, 2754-536\, Portugal
CATEGORIES:Keynotes & Workshops
ATTACH;FMTTYPE=image/png:https://lynnemctaggart.com/wp-content/uploads/2025/10/Wave-Cascais-Banner.png
ORGANIZER;CN="Holomovement":MAILTO:thewave@holomovement.net
END:VEVENT
BEGIN:VEVENT
DTSTART;VALUE=DATE:20260920
DTEND;VALUE=DATE:20260928
DTSTAMP:20260422T092148
CREATED:20260302T150731Z
LAST-MODIFIED:20260305T125420Z
UID:10000019-1789862400-1790553599@lynnemctaggart.com
SUMMARY:Heal Your Past Retreat
DESCRIPTION:Join bestselling author and intention master\, Lynne McTaggart\, and Time-Light creator\, Bryan Hubbard\, for a once-in-a-lifetime retreat at Castello di Pavone\, one of the world’s most beautifully restored castles\, and break free from the limiting beliefs and experiences of the past in this fairy-tale setting.
URL:https://lynnemctaggart.com/event/heal-your-past-retreat/
LOCATION:Castello di Pavone\, Via Dietro Castello\, Piedmont\, Pavone Canavese\, 10018\, Italy
CATEGORIES:Keynotes & Workshops
ATTACH;FMTTYPE=image/jpeg:https://lynnemctaggart.com/wp-content/uploads/2026/03/Castello-at-night.jpg
END:VEVENT
END:VCALENDAR